BEGIN:VCALENDAR
VERSION:2.0
PRODID:-//wp-events-plugin.com//7.2.3.1//EN
TZID:Europe/Berlin
X-WR-TIMEZONE:Europe/Berlin
BEGIN:VEVENT
UID:4@kolpingsfamilie-ms.de
DTSTART;TZID=Europe/Berlin:20160122T183000
DTEND;TZID=Europe/Berlin:20160122T213000
DTSTAMP:20160109T150225Z
URL:https://kolpingsfamilie-ms.de/veranstaltungen/gruenkohlessen-2016/
SUMMARY:Grünkohlessen 2016
DESCRIPTION:Am 22. Januar findet unser traditionelles Grünkohlessen im Sta
 dthotel statt.\nAnmeldung\nWir bitten um Anmeldung bis zum 19. Januar bei 
 Manfred Fiener (fiener (at) kolpingsfamilie-ms.de).
CATEGORIES:Angebote
LOCATION:Stadthotel Münster\, Aegidiistraße 21\, Münster\, Nordrhein-Wes
 tfalen\, 48143\, Deutschland
GEO:51.95923;7.62265
X-APPLE-STRUCTURED-LOCATION;VALUE=URI;X-ADDRESS=Aegidiistraße 21\, Münste
 r\, Nordrhein-Westfalen\, 48143\, Deutschland;X-APPLE-RADIUS=100;X-TITLE=S
 tadthotel Münster:geo:51.95923,7.62265
END:VEVENT
BEGIN:VTIMEZONE
TZID:Europe/Berlin
X-LIC-LOCATION:Europe/Berlin
BEGIN:STANDARD
DTSTART:20151025T020000
TZOFFSETFROM:+0200
TZOFFSETTO:+0100
TZNAME:CET
END:STANDARD
END:VTIMEZONE
END:VCALENDAR