BEGIN:VCALENDAR
VERSION:2.0
PRODID:-//wp-events-plugin.com//7.2.3.1//EN
TZID:Europe/Berlin
X-WR-TIMEZONE:Europe/Berlin
BEGIN:VEVENT
UID:108@kolpingsfamilie-ms.de
DTSTART;TZID=Europe/Berlin:20230403T180000
DTEND;TZID=Europe/Berlin:20230403T180000
DTSTAMP:20230310T125756Z
URL:https://kolpingsfamilie-ms.de/veranstaltungen/impulse-zu-beginn-der-ka
 rwoche-gemeinsamer-kreuzweg/
SUMMARY:Impulse zu Beginn der Karwoche - gemeinsamer Kreuzweg
DESCRIPTION:Innehalten\, das eigene Leben betrachten und Anstöße für die
  Kar- und Ostertage bekommen - dazu möchten wir allen Interessierten  be
 im Kreuzweg die Möglichkeit geben.\nMit unserem Präses Clemens Kreiss we
 rden wir den Kreuzweg auf dem Friedhof der Franziskanerinnen gehen und uns
  Zeit nehmen\, unserem Alttag zu unterbrechen.\nTreffpunkt ist um 18 Uhr S
 t. Mauritz.
CATEGORIES:Kolpingsfamilie
LOCATION:St. Mauritz\, St.-Mauritz-Freiheit 22\, Münster\, Deutschland
X-APPLE-STRUCTURED-LOCATION;VALUE=URI;X-ADDRESS=St.-Mauritz-Freiheit 22\, M
 ünster\, Deutschland;X-APPLE-RADIUS=100;X-TITLE=St. Mauritz:geo:0,0
END:VEVENT
BEGIN:VTIMEZONE
TZID:Europe/Berlin
X-LIC-LOCATION:Europe/Berlin
BEGIN:DAYLIGHT
DTSTART:20230326T030000
TZOFFSETFROM:+0100
TZOFFSETTO:+0200
TZNAME:CEST
END:DAYLIGHT
END:VTIMEZONE
END:VCALENDAR