BEGIN:VCALENDAR
VERSION:2.0
PRODID:-//wp-events-plugin.com//7.2.3.1//EN
TZID:Europe/Berlin
X-WR-TIMEZONE:Europe/Berlin
BEGIN:VEVENT
UID:7@kolpingsfamilie-ms.de
DTSTART;TZID=Europe/Berlin:20160228T100000
DTEND;TZID=Europe/Berlin:20160228T130000
DTSTAMP:20160109T192643Z
URL:https://kolpingsfamilie-ms.de/veranstaltungen/mitgliederversammlung-20
 16/
SUMMARY:Mitgliederversammlung 2016
DESCRIPTION:Am 28. Februar 2016 findet unsere diesjährige Mitgliederversam
 mlung im Stadthotel statt. Erstmalig beginnen wir in diesem Jahr erst um 1
 0 Uhr mit einem gemeinsamen Gottesdienst in der Kapelle des Stadthotels. I
 m Anschluss finden die Regularien der Mitgliederversammlung statt. Zum Ab
 schluss und Ausklang des Tages ist im Mittag für einen Mittagsimbiss (Sup
 pe) gesorgt.\n\nWir freuen uns über zahlreiche Teilnahme und Beteiligung 
 an der diesjährigen Mitgliederversammlung. Für eine Kinderbetreuung ist 
 - nach Voranmeldung beim Vorstand - gesorgt.\n\nWeiterer Veranstaltungshin
 weis: Während der Mitgliederversammlung wird ein Kurzbericht vom Begegnun
 gsprojekt Uganda 2015\, bei dem vier Mitglieder unserer Kolpingsfamilie te
 ilgenommen haben\, gegeben. Wir freuen uns\, dass diese Teilnehmerinnen au
 ch einen Vortragsabend am 31. März 2016\, im Stadthotel gestalten. Weiter
 e Informationen.
CATEGORIES:Kolpingsfamilie,Mitgliederversammlung
LOCATION:Stadthotel Münster\, Aegidiistraße 21\, Münster\, Nordrhein-Wes
 tfalen\, 48143\, Deutschland
GEO:51.95923;7.62265
X-APPLE-STRUCTURED-LOCATION;VALUE=URI;X-ADDRESS=Aegidiistraße 21\, Münste
 r\, Nordrhein-Westfalen\, 48143\, Deutschland;X-APPLE-RADIUS=100;X-TITLE=S
 tadthotel Münster:geo:51.95923,7.62265
END:VEVENT
BEGIN:VTIMEZONE
TZID:Europe/Berlin
X-LIC-LOCATION:Europe/Berlin
BEGIN:STANDARD
DTSTART:20151025T020000
TZOFFSETFROM:+0200
TZOFFSETTO:+0100
TZNAME:CET
END:STANDARD
END:VTIMEZONE
END:VCALENDAR