BEGIN:VCALENDAR
VERSION:2.0
PRODID:-//wp-events-plugin.com//7.2.3.1//EN
TZID:Europe/Berlin
X-WR-TIMEZONE:Europe/Berlin
BEGIN:VEVENT
UID:73@kolpingsfamilie-ms.de
DTSTART;TZID=Europe/Berlin:20201014T180000
DTEND;TZID=Europe/Berlin:20201014T210000
DTSTAMP:20201002T114203Z
URL:https://kolpingsfamilie-ms.de/veranstaltungen/schwarzlicht-minigolf-fu
 er-junge-erwachsene/
SUMMARY:Schwarzlicht Minigolf für junge Erwachsene
DESCRIPTION:Nach langer Coronapause wollen wir mit den jungen Erwachsenen e
 ndlich wieder etwas gemeinsam unternehmen. Unser nächstes Ziel: Schwarzli
 cht Minigolf in Roxel!\nWenn du Lust hast bei einer entspannten Partie neu
 e Leute oder alte Bekannte zu treffen melde dich bis zum 12.10.2020 unter 
 niebler@kolping-muenster.de an.\nWenn dir der Weg nach Roxel mit der Leeze
  zu weit ist\, kannst du dich auch zum Schuttle von/nach Münster Zentrum 
 anmelden.\n\nAchtung! Bitte denkt unbedingt an eine Mund-Nase-Bedeckung.\n
 Der Eintritt kostet 11€.
ATTACH;FMTTYPE=image/jpeg:https://kolpingsfamilie-ms.de/wp-content/uploads
 /2020/10/Top-Tipp_Schwarzlichthelden-Mainz.jpg
CATEGORIES:Junge Erwachsene,Kolpingjugend
LOCATION:Schwarzlicht Semester Minigolf Münster\, Am Rohrbusch 81\, Münst
 er\, 48161\, Deutschland
X-APPLE-STRUCTURED-LOCATION;VALUE=URI;X-ADDRESS=Am Rohrbusch 81\, Münster\
 , 48161\, Deutschland;X-APPLE-RADIUS=100;X-TITLE=Schwarzlicht Semester Min
 igolf Münster:geo:0,0
END:VEVENT
BEGIN:VTIMEZONE
TZID:Europe/Berlin
X-LIC-LOCATION:Europe/Berlin
BEGIN:DAYLIGHT
DTSTART:20200329T030000
TZOFFSETFROM:+0100
TZOFFSETTO:+0200
TZNAME:CEST
END:DAYLIGHT
END:VTIMEZONE
END:VCALENDAR