BEGIN:VCALENDAR
VERSION:2.0
PRODID:-//wp-events-plugin.com//7.2.3.1//EN
TZID:Europe/Berlin
X-WR-TIMEZONE:Europe/Berlin
BEGIN:VEVENT
UID:106@kolpingsfamilie-ms.de
DTSTART;TZID=Europe/Berlin:20230329T193000
DTEND;TZID=Europe/Berlin:20230329T193000
DTSTAMP:20230310T124031Z
URL:https://kolpingsfamilie-ms.de/veranstaltungen/synodaler-ausweg-aus-der
 -krise-der-kirche-oder-hoffnungsloser-pfad-ein-themenabend-zum-synodalen-w
 eg/
SUMMARY:Synodaler Ausweg aus der Krise der Kirche oder hoffnungsloser Pfad?
  – ein Themenabend zum „Synodalen Weg“
DESCRIPTION:Nicht zuletzt durch die Briefe und jüngsten Gespräche deutsch
 er Bischöfe nach Rom und entsprechende Antworten stellt sich erneut die F
 rage\, wie hoffnungsvoll der 2019 begonnene „Synodale Weg“ ist. Im Nac
 hgang der Veröffentlichung der MHG-Studie initiiert sollte es um eine Bea
 rbeitung der großen Themen der katholischen Kirche in Deutschland gehen. 
 Aber worum geht es im Kern? Wie steht es um den Synodalen Weg? Mit welchen
  Ergebnissen und welcher Zukunft ist im X-ten Reformversuch der katholisch
 en Kirche zu rechnen?\n\nKerstin Stegemann (Synodale\, von 2019 bis 2022 V
 orsitzende des Diözesankomitees der Katholiken in Bistum Münster\, Mitgl
 ied unserer Kolpingsfamilie) wird einen Überblick über den den Synodalen
  Weg und einen persönlichen Einblick in die Entwicklungen und ihre Bewert
 ung der aktuellen Situation geben. Nach einem Kurzvortrag besteht Gelegenh
 eit für Fragen\, Austausch und Diskussion.\n\nWir laden herzlich am 29. M
 ärz 2023\, 19:30 Uhr\, in das Büro der Kolpingsfamilie\, Krumme Straße 
 45/46\, 48143 Münster und bitten im Vorfeld um eine kurze Anmeldung\, per
  E-Mail an mail@kolpingsfamilie-ms.de oder während der Bürozeit (Monta
 g\, 16 bis 19 Uhr\, im Büro unter 0251 / 62 56 03 97).
CATEGORIES:Bildungsangebot,Kolpingsfamilie
LOCATION:Kolpingsfamilie Münster-Zentral\, Krumme Straße\, 45/46\, Münst
 er\, Deutschland\, 48143\, Deutschland
X-APPLE-STRUCTURED-LOCATION;VALUE=URI;X-ADDRESS=Krumme Straße\, 45/46\, M
 ünster\, Deutschland\, 48143\, Deutschland;X-APPLE-RADIUS=100;X-TITLE=Kol
 pingsfamilie Münster-Zentral:geo:0,0
END:VEVENT
BEGIN:VTIMEZONE
TZID:Europe/Berlin
X-LIC-LOCATION:Europe/Berlin
BEGIN:DAYLIGHT
DTSTART:20230326T030000
TZOFFSETFROM:+0100
TZOFFSETTO:+0200
TZNAME:CEST
END:DAYLIGHT
END:VTIMEZONE
END:VCALENDAR