BEGIN:VCALENDAR
VERSION:2.0
PRODID:-//wp-events-plugin.com//7.2.3.1//EN
TZID:Europe/Berlin
X-WR-TIMEZONE:Europe/Berlin
BEGIN:VEVENT
UID:100@kolpingsfamilie-ms.de
DTSTART;TZID=Europe/Berlin:20230516T180000
DTEND;TZID=Europe/Berlin:20230516T180000
DTSTAMP:20221119T103103Z
URL:https://kolpingsfamilie-ms.de/veranstaltungen/vorstandssitzung-4/
SUMMARY:Vorstandssitzung
DESCRIPTION:Bei den Vorstandssitzungen werden die Entwicklungen in den Ziel
 gruppen und der Veranstaltungen besprochen\, Post wird gesichtet und Besch
 lüsse gefasst.\n\nInteressierte an der Vorstandsarbeit können sich im Vo
 rfeld bei einem der Vorstandsmitglieder oder im Büro zur Teilnahme an Vor
 standssitzungen anmelden.
CATEGORIES:Kolpingsfamilie,Vorstand
LOCATION:Stadthotel Münster\, Aegidiistraße 21\, Münster\, Nordrhein-Wes
 tfalen\, 48143\, Deutschland
GEO:51.95923;7.62265
X-APPLE-STRUCTURED-LOCATION;VALUE=URI;X-ADDRESS=Aegidiistraße 21\, Münste
 r\, Nordrhein-Westfalen\, 48143\, Deutschland;X-APPLE-RADIUS=100;X-TITLE=S
 tadthotel Münster:geo:51.95923,7.62265
END:VEVENT
BEGIN:VTIMEZONE
TZID:Europe/Berlin
X-LIC-LOCATION:Europe/Berlin
BEGIN:DAYLIGHT
DTSTART:20230326T030000
TZOFFSETFROM:+0100
TZOFFSETTO:+0200
TZNAME:CEST
END:DAYLIGHT
END:VTIMEZONE
END:VCALENDAR