BEGIN:VCALENDAR
VERSION:2.0
PRODID:-//wp-events-plugin.com//7.2.3.1//EN
TZID:Europe/Berlin
X-WR-TIMEZONE:Europe/Berlin
BEGIN:VEVENT
UID:10@kolpingsfamilie-ms.de
DTSTART;TZID=Europe/Berlin:20180126T180000
DTEND;TZID=Europe/Berlin:20180126T210000
DTSTAMP:20171208T104530Z
URL:https://kolpingsfamilie-ms.de/veranstaltungen/westfaelischer-abend/
SUMMARY:Westfälischer Abend
DESCRIPTION:
CATEGORIES:Angebote
LOCATION:Stadthotel Münster\, Aegidiistraße 21\, Münster\, Nordrhein-Wes
 tfalen\, 48143\, Deutschland
GEO:51.95923;7.62265
X-APPLE-STRUCTURED-LOCATION;VALUE=URI;X-ADDRESS=Aegidiistraße 21\, Münste
 r\, Nordrhein-Westfalen\, 48143\, Deutschland;X-APPLE-RADIUS=100;X-TITLE=S
 tadthotel Münster:geo:51.95923,7.62265
END:VEVENT
BEGIN:VTIMEZONE
TZID:Europe/Berlin
X-LIC-LOCATION:Europe/Berlin
BEGIN:STANDARD
DTSTART:20171029T020000
TZOFFSETFROM:+0200
TZOFFSETTO:+0100
TZNAME:CET
END:STANDARD
END:VTIMEZONE
END:VCALENDAR